View In:
ArcGIS JavaScript
ArcGIS Online Map Viewer
ArcGIS Earth
ArcMap
View Footprint In:
ArcGIS Online Map Viewer
Service Description: Data is from Polar Geospatial Centre and was collected using a combination of techniques and sensors to produce a 2m DEM of the entire arctic.
This specific tile has a portion of Yellowknife and the surrounding area.
Name: Image_Service/ELE_PGC_ArcticDEM_2M_30_12_2_1
Description: Data is from Polar Geospatial Centre and was collected using a combination of techniques and sensors to produce a 2m DEM of the entire arctic.
This specific tile has a portion of Yellowknife and the surrounding area.
Single Fused Map Cache: false
Extent:
XMin: -2850000.0
YMin: -1100000.0
XMax: -2800000.0
YMax: -1050000.0
Spatial Reference: 0
(0)
LatestVCSWkid(0)
Initial Extent:
XMin: -2850000.0
YMin: -1100000.0
XMax: -2800000.0
YMax: -1050000.0
Spatial Reference: 0
(0)
LatestVCSWkid(0)
Full Extent:
XMin: -2850000.0
YMin: -1100000.0
XMax: -2800000.0
YMax: -1050000.0
Spatial Reference: 0
(0)
LatestVCSWkid(0)
Pixel Size X: 2.0
Pixel Size Y: 2.0
Band Count: 1
Pixel Type: F32
RasterFunction Infos: {"rasterFunctionInfos": [{
"name": "None",
"description": "",
"help": ""
}]}
Mensuration Capabilities: Basic
Has Histograms: false
Has Colormap: false
Has Multi Dimensions : false
Rendering Rule:
Min Scale: 0
Max Scale: 0
Copyright Text: The provider of this data is PGC.
Service Data Type: esriImageServiceDataTypeGeneric
Min Values: N/A
Max Values: N/A
Mean Values: N/A
Standard Deviation Values: N/A
Object ID Field:
Fields:
None
Default Mosaic Method: Center
Allowed Mosaic Methods:
SortField:
SortValue: null
Mosaic Operator: First
Default Compression Quality: 75
Default Resampling Method: Bilinear
Max Record Count: null
Max Image Height: 4100
Max Image Width: 15000
Max Download Image Count: null
Max Mosaic Image Count: null
Allow Raster Function: true
Allow Copy: null
Allow Analysis: null
Allow Compute TiePoints: false
Supports Statistics: false
Supports Advanced Queries: false
Use StandardizedQueries: true
Raster Type Infos:
Name: Raster Dataset
Description: Supports all ArcGIS Raster Datasets
Help:
Has Raster Attribute Table: false
Edit Fields Info: null
Ownership Based AccessControl For Rasters: null
Child Resources:
Info
Key Properties
Legend
Raster Function Infos
Supported Operations:
Export Image
Identify
Measure
Compute Histograms
Compute Statistics Histograms
Get Samples
Compute Class Statistics
Query Boundary
Compute Pixel Location
Compute Angles
Validate
Project